BEGIN:VCALENDAR
VERSION:2.0
PRODID:-//https://calenda-formation.labocleo.org
X-WR-CALNAME:Calenda
X-WR-TIMEZONE:Europe/Paris
CALSCALE:GREGORIAN
X-WR-CALDESC:The calendar for arts, humanities and social sciences
METHOD:PUBLISH
BEGIN:VEVENT
DTSTART;VALUE=DATE:20200214
DTEND;VALUE=DATE:20200215
UID:730076-20200214@calenda.revues.org
SUMMARY:Entrepreneurship in Africa: between re-emergence of a discourse and reconfigurations of practices
URL:https://calenda-formation.labocleo.org/730076
DESCRIPTION:Il s'agit\, à travers ce numéro\, de saisir les évolutions à l’œuvre dans le champ de l’entrepreneuriat en Afrique\, à la fois sous l’angle de la diversité de ses formes contemporaines et sous celui du renouveau d’un discours impulsé en partie par « en … @plus_info https://calenda-formation.labocleo.org/730076
LOCATION:
END:VEVENT
END:VCALENDAR
