BEGIN:VCALENDAR
VERSION:2.0
PRODID:-//https://calenda-formation.labocleo.org
X-WR-CALNAME:Calenda
X-WR-TIMEZONE:Europe/Paris
CALSCALE:GREGORIAN
X-WR-CALDESC:Le calendrier des lettres et sciences humaines et sociales
METHOD:PUBLISH
BEGIN:VEVENT
DTSTART;VALUE=DATE:20200130
DTEND;VALUE=DATE:20200131
UID:730142-20200130@calenda.revues.org
SUMMARY:Écologie politique : par-delà le grand partage
URL:https://calenda-formation.labocleo.org/730142
DESCRIPTION:La mise en exergue de l’inadéquation du dualisme entre nature et société – cadre dans lequel a été réfléchi l’essentiel des concepts classiques de la philosophie politique – ne saurait en soi valoir comme une réponse au défi écologique. Une fois acce… @plus_info https://calenda-formation.labocleo.org/730142
LOCATION:Bruxelles
END:VEVENT
BEGIN:VEVENT
DTSTART;VALUE=DATE:20200131
DTEND;VALUE=DATE:20200201
UID:730142-20200131@calenda.revues.org
SUMMARY:Écologie politique : par-delà le grand partage
URL:https://calenda-formation.labocleo.org/730142
DESCRIPTION:La mise en exergue de l’inadéquation du dualisme entre nature et société – cadre dans lequel a été réfléchi l’essentiel des concepts classiques de la philosophie politique – ne saurait en soi valoir comme une réponse au défi écologique. Une fois acce… @plus_info https://calenda-formation.labocleo.org/730142
LOCATION:Bruxelles
END:VEVENT
END:VCALENDAR
