BEGIN:VCALENDAR
VERSION:2.0
PRODID:-//https://calenda-formation.labocleo.org
X-WR-CALNAME:Calenda
X-WR-TIMEZONE:Europe/Paris
CALSCALE:GREGORIAN
X-WR-CALDESC:O calendário de letras e de ciências sociais e humanas
METHOD:PUBLISH
BEGIN:VEVENT
DTSTART;VALUE=DATE:20200220
DTEND;VALUE=DATE:20200221
UID:730472-20200220@calenda.revues.org
SUMMARY:Manager en proximité : quel travail ?
URL:https://calenda-formation.labocleo.org/730472
DESCRIPTION:Alors que les effectifs de l'encadrement intermédiaire croissent depuis quarante ans\, que savons-nous réellement de ceux que l'on dénomme les « managers de proximité » ? Si autrefois ils étaient perçus comme des « petits chefs » n'ayant d'autre rôle … @plus_info https://calenda-formation.labocleo.org/730472
LOCATION:
END:VEVENT
END:VCALENDAR
