BEGIN:VCALENDAR
VERSION:2.0
PRODID:-//https://calenda-formation.labocleo.org
X-WR-CALNAME:Calenda
X-WR-TIMEZONE:Europe/Paris
CALSCALE:GREGORIAN
X-WR-CALDESC:The calendar for arts, humanities and social sciences
METHOD:PUBLISH
BEGIN:VEVENT
DTSTART;VALUE=DATE:20200123
DTEND;VALUE=DATE:20200124
UID:731394-20200123@calenda.revues.org
SUMMARY:"Shoah" after Lanzmann
URL:https://calenda-formation.labocleo.org/731394
DESCRIPTION:Shoah marque à sa sortie\, en 1985\, une étape majeure dans la reconnaissance publique de la singularité du génocide des Juifs d’Europe. Bien plus\, le film imprime un nouveau tournant dans l’histoire des représentations cinématographiques de la période… @plus_info https://calenda-formation.labocleo.org/731394
LOCATION:Paris
END:VEVENT
END:VCALENDAR
