BEGIN:VCALENDAR
VERSION:2.0
PRODID:-//https://calenda-formation.labocleo.org
X-WR-CALNAME:Calenda
X-WR-TIMEZONE:Europe/Paris
CALSCALE:GREGORIAN
X-WR-CALDESC:The calendar for arts, humanities and social sciences
METHOD:PUBLISH
BEGIN:VEVENT
DTSTART;VALUE=DATE:20200315
DTEND;VALUE=DATE:20200316
UID:731978-20200315@calenda.revues.org
SUMMARY:Legal writings - the forms and legitimacies of legal decisions since the Middle Ages
URL:https://calenda-formation.labocleo.org/731978
DESCRIPTION:Dans le renouvellement des analyses portant sur l’histoire de la justice\, la pratique judiciaire et l’application des peines sont bien souvent au cœur de l’attention. La focale portée sur les effets recherchés de cette justice (la pacification\, l’imp… @plus_info https://calenda-formation.labocleo.org/731978
LOCATION:Pessac
END:VEVENT
END:VCALENDAR
