BEGIN:VCALENDAR
VERSION:2.0
PRODID:-//https://calenda-formation.labocleo.org
X-WR-CALNAME:Calenda
X-WR-TIMEZONE:Europe/Paris
CALSCALE:GREGORIAN
X-WR-CALDESC:Le calendrier des lettres et sciences humaines et sociales
METHOD:PUBLISH
BEGIN:VEVENT
DTSTART;VALUE=DATE:20200207
DTEND;VALUE=DATE:20200208
UID:735294-20200207@calenda.revues.org
SUMMARY:L’internationalisation des musées :  entre stratégies de marques et diplomatie d’influence
URL:https://calenda-formation.labocleo.org/735294
DESCRIPTION:Le développement des marques muséales connaît une extension continue au plan interne comme au plan international : la création du musée du Louvre à Abu Dhabi (LAD) en constitue l’illustration française la plus accomplie comme\, selon des modalités dif… Weitere Informationen https://calenda-formation.labocleo.org/735294
LOCATION:
END:VEVENT
END:VCALENDAR
