BEGIN:VCALENDAR
VERSION:2.0
PRODID:-//https://calenda-formation.labocleo.org
X-WR-CALNAME:Calenda
X-WR-TIMEZONE:Europe/Paris
CALSCALE:GREGORIAN
X-WR-CALDESC:The calendar for arts, humanities and social sciences
METHOD:PUBLISH
BEGIN:VEVENT
DTSTART;VALUE=DATE:20200430
DTEND;VALUE=DATE:20200501
UID:735546-20200430@calenda.revues.org
SUMMARY:Art and the book between 15th and 18th centuries for a transdisciplinary approach
URL:https://calenda-formation.labocleo.org/735546
DESCRIPTION:Quand image et objet-livre interagissent\, cela intéresse tout autant l'histoire du livre que l'histoire de l’art et d’autres disciplines telles que les littéraires\, chacune travaillant avec ses propres méthodes. Les relations entre les deux types de … @plus_info https://calenda-formation.labocleo.org/735546
LOCATION:Villeurbanne
END:VEVENT
END:VCALENDAR
