BEGIN:VCALENDAR
VERSION:2.0
PRODID:-//https://calenda-formation.labocleo.org
X-WR-CALNAME:Calenda
X-WR-TIMEZONE:Europe/Paris
CALSCALE:GREGORIAN
X-WR-CALDESC:The calendar for arts, humanities and social sciences
METHOD:PUBLISH
BEGIN:VEVENT
DTSTART;VALUE=DATE:20200315
DTEND;VALUE=DATE:20200316
UID:735576-20200315@calenda.revues.org
SUMMARY:The Free French - extraordinary commitment in detail
URL:https://calenda-formation.labocleo.org/735576
DESCRIPTION:Cet appel à contribution est destiné aux chercheurs travaillant sur la seconde guerre mondiale et l'histoire des femmes. Ils sont invités à participer à un colloque international sur le rôle et la place dans la France Libre qui se tiendra à Paris en … @plus_info https://calenda-formation.labocleo.org/735576
LOCATION:Paris
END:VEVENT
END:VCALENDAR
