BEGIN:VCALENDAR
VERSION:2.0
PRODID:-//https://calenda-formation.labocleo.org
X-WR-CALNAME:Calenda
X-WR-TIMEZONE:Europe/Paris
CALSCALE:GREGORIAN
X-WR-CALDESC:The calendar for arts, humanities and social sciences
METHOD:PUBLISH
BEGIN:VEVENT
DTSTART;VALUE=DATE:20200315
DTEND;VALUE=DATE:20200316
UID:736525-20200315@calenda.revues.org
SUMMARY:LGBTI and Queer Arts\, Cultures and Activisms
URL:https://calenda-formation.labocleo.org/736525
DESCRIPTION:In France\, a few years after the law authorizing same-sex marriage\, LGBTQ associations are now facing new struggles\, fighting for access to assisted procreation or the creation of a communal archive center. Drawing on these dynamics\, this conference … @plus_info https://calenda-formation.labocleo.org/736525
LOCATION:Metz
END:VEVENT
END:VCALENDAR
