BEGIN:VCALENDAR
VERSION:2.0
PRODID:-//https://calenda-formation.labocleo.org
X-WR-CALNAME:Calenda
X-WR-TIMEZONE:Europe/Paris
CALSCALE:GREGORIAN
X-WR-CALDESC:Le calendrier des lettres et sciences humaines et sociales
METHOD:PUBLISH
BEGIN:VEVENT
DTSTART;VALUE=DATE:20200221
DTEND;VALUE=DATE:20200222
UID:737130-20200221@calenda.revues.org
SUMMARY:Usages et représentations de l’environnement dans le monde chinois
URL:https://calenda-formation.labocleo.org/737130
DESCRIPTION:La question environnementale dans les zones périphériques du monde sinisé permettra d’aborder celle des frontières politiques et du rôle de l’environnement dans leur (re)définition\, mais aussi la question des politiques écologiques qui ont conduit au… Weitere Informationen https://calenda-formation.labocleo.org/737130
LOCATION:Paris
END:VEVENT
END:VCALENDAR
