BEGIN:VCALENDAR
VERSION:2.0
PRODID:-//https://calenda-formation.labocleo.org
X-WR-CALNAME:Calenda
X-WR-TIMEZONE:Europe/Paris
CALSCALE:GREGORIAN
X-WR-CALDESC:O calendário de letras e de ciências sociais e humanas
METHOD:PUBLISH
BEGIN:VEVENT
DTSTART;VALUE=DATE:20200207
DTEND;VALUE=DATE:20200208
UID:738271-20200207@calenda.revues.org
SUMMARY:Le droit à la protection des données à caractère personnel des migrants face à la fermeture des frontières extérieures de l'Union européenne
URL:https://calenda-formation.labocleo.org/738271
DESCRIPTION:L’objet de cette journée d’étude consacrée au droit à la protection des données à caractère personnel des migrants face à la fermeture des frontières extérieures de l’Union européenne est d’analyser si ce droit peut être qualifié de droit fondamental… @plus_info https://calenda-formation.labocleo.org/738271
LOCATION:Bordéus
END:VEVENT
END:VCALENDAR
