BEGIN:VCALENDAR
VERSION:2.0
PRODID:-//https://calenda-formation.labocleo.org
X-WR-CALNAME:Calenda
X-WR-TIMEZONE:Europe/Paris
CALSCALE:GREGORIAN
X-WR-CALDESC:Le calendrier des lettres et sciences humaines et sociales
METHOD:PUBLISH
BEGIN:VEVENT
DTSTART;VALUE=DATE:20200430
DTEND;VALUE=DATE:20200501
UID:738691-20200430@calenda.revues.org
SUMMARY:Cosmologie\, un besoin (de) métaphysique ?
URL:https://calenda-formation.labocleo.org/738691
DESCRIPTION:Ce colloque pour jeunes chercheurs aura pour but d'interroger la dimension métaphysique des cosmologies depuis l'antiquité jusqu'à notre époque. Ce sera un lieu privilégié pour discuter de l’hypothèse qui est à l’origine de ce projet\, à savoir celle … Weitere Informationen https://calenda-formation.labocleo.org/738691
LOCATION:Lille
END:VEVENT
END:VCALENDAR
