BEGIN:VCALENDAR
VERSION:2.0
PRODID:-//https://calenda-formation.labocleo.org
X-WR-CALNAME:Calenda
X-WR-TIMEZONE:Europe/Paris
CALSCALE:GREGORIAN
X-WR-CALDESC:Le calendrier des lettres et sciences humaines et sociales
METHOD:PUBLISH
BEGIN:VEVENT
DTSTART;VALUE=DATE:20200223
DTEND;VALUE=DATE:20200224
UID:741215-20200223@calenda.revues.org
SUMMARY:La ville qui s'adapte. Développement urbain et héritage culturel face aux changements environnementaux
URL:https://calenda-formation.labocleo.org/741215
DESCRIPTION:Le colloque scientifique met en question les adaptations et les mécanismes de résilience des villes vis-à-vis des effets des changements climatiques et s’articule autour de quatre axes d'investigation : habitat et formes urbaines ; réseaux et infrast… @plus_info https://calenda-formation.labocleo.org/741215
LOCATION:Rabat
END:VEVENT
END:VCALENDAR
