BEGIN:VCALENDAR
VERSION:2.0
PRODID:-//https://calenda-formation.labocleo.org
X-WR-CALNAME:Calenda
X-WR-TIMEZONE:Europe/Paris
CALSCALE:GREGORIAN
X-WR-CALDESC:Le calendrier des lettres et sciences humaines et sociales
METHOD:PUBLISH
BEGIN:VEVENT
DTSTART;VALUE=DATE:20200313
DTEND;VALUE=DATE:20200314
UID:742745-20200313@calenda.revues.org
SUMMARY:Démocratie et participation
URL:https://calenda-formation.labocleo.org/742745
DESCRIPTION:L’activité du Groupement d'intérêt scientifique (GIS) « Démocratie et participation » vise la confrontation de travaux puisant aux différentes conceptions de la démocratie\, relevant des différents courants de recherche qui traversent les disciplines … Más informaciones https://calenda-formation.labocleo.org/742745
LOCATION:La Rochelle
END:VEVENT
END:VCALENDAR
