BEGIN:VCALENDAR
VERSION:2.0
PRODID:-//https://calenda-formation.labocleo.org
X-WR-CALNAME:Calenda
X-WR-TIMEZONE:Europe/Paris
CALSCALE:GREGORIAN
X-WR-CALDESC:The calendar for arts, humanities and social sciences
METHOD:PUBLISH
BEGIN:VEVENT
DTSTART;VALUE=DATE:20210125
DTEND;VALUE=DATE:20210126
UID:746196-20210125@calenda.revues.org
SUMMARY:The Ancient and the New Silk Roads: Discourse and Knowledge
URL:https://calenda-formation.labocleo.org/746196
DESCRIPTION:Les Routes de la Soie (et du Corridor) constituent un des plus importants réseaux de communication et de développement humain au monde. Ces routes ont depuis toujours participé à la connexion de plusieurs espaces\, régions\, pays\, continents et à la co… @plus_info https://calenda-formation.labocleo.org/746196
LOCATION:Montpellier
END:VEVENT
END:VCALENDAR
