BEGIN:VCALENDAR
VERSION:2.0
PRODID:-//https://calenda-formation.labocleo.org
X-WR-CALNAME:Calenda
X-WR-TIMEZONE:Europe/Paris
CALSCALE:GREGORIAN
X-WR-CALDESC:Le calendrier des lettres et sciences humaines et sociales
METHOD:PUBLISH
BEGIN:VEVENT
DTSTART;VALUE=DATE:20200427
DTEND;VALUE=DATE:20200428
UID:748410-20200427@calenda.revues.org
SUMMARY:Paix\, temps et territoires à l’ère des dynamiques contemporaines
URL:https://calenda-formation.labocleo.org/748410
DESCRIPTION:Les guerres d’intervention sous fond de démocratisation et de lutte contre le terrorisme\, le génocide rwandais et bien d’autres conflits inscrivent la guerre comme fondement de notre modernité. Les sociétés africaines sont prises dans les rets de cet… Más informaciones https://calenda-formation.labocleo.org/748410
LOCATION:
END:VEVENT
END:VCALENDAR
