BEGIN:VCALENDAR
VERSION:2.0
PRODID:-//https://calenda-formation.labocleo.org
X-WR-CALNAME:Calenda
X-WR-TIMEZONE:Europe/Paris
CALSCALE:GREGORIAN
X-WR-CALDESC:Le calendrier des lettres et sciences humaines et sociales
METHOD:PUBLISH
BEGIN:VEVENT
DTSTART;VALUE=DATE:20200916
DTEND;VALUE=DATE:20200917
UID:748581-20200916@calenda.revues.org
SUMMARY:Une approche pluridisciplinaire de la guerre de 1870-1871
URL:https://calenda-formation.labocleo.org/748581
DESCRIPTION:Cette journée vise à croiser les regards disciplinaires sur cette guerre méconnue en mobilisant l'histoire militaire\, l'histoire des relations internationales\, l'histoire culturelle\, le droit et la sociologie\, en abordant à la fois les questions dipl… Más informaciones https://calenda-formation.labocleo.org/748581
LOCATION:
END:VEVENT
END:VCALENDAR
