BEGIN:VCALENDAR
VERSION:2.0
PRODID:-//https://calenda-formation.labocleo.org
X-WR-CALNAME:Calenda
X-WR-TIMEZONE:Europe/Paris
CALSCALE:GREGORIAN
X-WR-CALDESC:Le calendrier des lettres et sciences humaines et sociales
METHOD:PUBLISH
BEGIN:VEVENT
DTSTART;VALUE=DATE:20200316
DTEND;VALUE=DATE:20200317
UID:752270-20200316@calenda.revues.org
SUMMARY:Portugal et pays lusophones
URL:https://calenda-formation.labocleo.org/752270
DESCRIPTION:Le prochain numéro de Perspective: actualité en histoire de l’art sera consacré aux transferts culturels entre le Portugal et les pays lusophones (Angola\, Brésil\, Cap-Vert\, Guinée-Bissau\, Guinée équatoriale\, Macao\, Mozambique\, Sao Tomé-et-Principe\, T… @plus_info https://calenda-formation.labocleo.org/752270
LOCATION:
END:VEVENT
END:VCALENDAR
