BEGIN:VCALENDAR
VERSION:2.0
PRODID:-//https://calenda-formation.labocleo.org
X-WR-CALNAME:Calenda
X-WR-TIMEZONE:Europe/Paris
CALSCALE:GREGORIAN
X-WR-CALDESC:The calendar for arts, humanities and social sciences
METHOD:PUBLISH
BEGIN:VEVENT
DTSTART;VALUE=DATE:20200229
DTEND;VALUE=DATE:20200301
UID:753700-20200229@calenda.revues.org
SUMMARY:Between Life and Existence. Nietzsche and French Existentialism
URL:https://calenda-formation.labocleo.org/753700
DESCRIPTION:Our symposium therefore aims to close this research gap by including all relevant disciplines (philosophy\, literary studies\, history of ideas ...). Contributions can deal with biographical aspects of the subject (to what extent did the French existen… @plus_info https://calenda-formation.labocleo.org/753700
LOCATION:Naumburg
END:VEVENT
END:VCALENDAR
