BEGIN:VCALENDAR
VERSION:2.0
PRODID:-//https://calenda-formation.labocleo.org
X-WR-CALNAME:Calenda
X-WR-TIMEZONE:Europe/Paris
CALSCALE:GREGORIAN
X-WR-CALDESC:The calendar for arts, humanities and social sciences
METHOD:PUBLISH
BEGIN:VEVENT
DTSTART;VALUE=DATE:20200327
DTEND;VALUE=DATE:20200328
UID:754150-20200327@calenda.revues.org
SUMMARY:The digital humanities and pedagogical practices - EPHN 2020
URL:https://calenda-formation.labocleo.org/754150
DESCRIPTION:Nous souhaitons poursuivre l’exploration des mises en œuvre des humanités numériques dans les pratiques pédagogiques en licence\, master et formation doctorale. Un point d’intérêt connexe est la mise en œuvre concrète des licences et masters explicite… @plus_info https://calenda-formation.labocleo.org/754150
LOCATION:Saint Denis
END:VEVENT
END:VCALENDAR
