BEGIN:VCALENDAR
VERSION:2.0
PRODID:-//https://calenda-formation.labocleo.org
X-WR-CALNAME:Calenda
X-WR-TIMEZONE:Europe/Paris
CALSCALE:GREGORIAN
X-WR-CALDESC:The calendar for arts, humanities and social sciences
METHOD:PUBLISH
BEGIN:VEVENT
DTSTART;VALUE=DATE:20191008
DTEND;VALUE=DATE:20191009
UID:754630-20191008@calenda.revues.org
SUMMARY:Homeschooling\, unschooling\,  home education ...
URL:https://calenda-formation.labocleo.org/754630
DESCRIPTION:Si les taux de scolarisation des individus soumis à l’instruction obligatoire avoisinent les 100 % dans nombre de pays occidentaux\, des parents y instruisent cependant leurs enfants hors établissement scolaire (public comme privé). Illégale en Allema… @plus_info https://calenda-formation.labocleo.org/754630
LOCATION:Gennevilliers
END:VEVENT
BEGIN:VEVENT
DTSTART;VALUE=DATE:20200317
DTEND;VALUE=DATE:20200318
UID:754630-20200317@calenda.revues.org
SUMMARY:Homeschooling\, unschooling\,  home education ...
URL:https://calenda-formation.labocleo.org/754630
DESCRIPTION:Si les taux de scolarisation des individus soumis à l’instruction obligatoire avoisinent les 100 % dans nombre de pays occidentaux\, des parents y instruisent cependant leurs enfants hors établissement scolaire (public comme privé). Illégale en Allema… @plus_info https://calenda-formation.labocleo.org/754630
LOCATION:Gennevilliers
END:VEVENT
BEGIN:VEVENT
DTSTART;VALUE=DATE:20200507
DTEND;VALUE=DATE:20200508
UID:754630-20200507@calenda.revues.org
SUMMARY:Homeschooling\, unschooling\,  home education ...
URL:https://calenda-formation.labocleo.org/754630
DESCRIPTION:Si les taux de scolarisation des individus soumis à l’instruction obligatoire avoisinent les 100 % dans nombre de pays occidentaux\, des parents y instruisent cependant leurs enfants hors établissement scolaire (public comme privé). Illégale en Allema… @plus_info https://calenda-formation.labocleo.org/754630
LOCATION:Gennevilliers
END:VEVENT
BEGIN:VEVENT
DTSTART;VALUE=DATE:20200623
DTEND;VALUE=DATE:20200624
UID:754630-20200623@calenda.revues.org
SUMMARY:Homeschooling\, unschooling\,  home education ...
URL:https://calenda-formation.labocleo.org/754630
DESCRIPTION:Si les taux de scolarisation des individus soumis à l’instruction obligatoire avoisinent les 100 % dans nombre de pays occidentaux\, des parents y instruisent cependant leurs enfants hors établissement scolaire (public comme privé). Illégale en Allema… @plus_info https://calenda-formation.labocleo.org/754630
LOCATION:Gennevilliers
END:VEVENT
END:VCALENDAR
