BEGIN:VCALENDAR
VERSION:2.0
PRODID:-//https://calenda-formation.labocleo.org
X-WR-CALNAME:Calenda
X-WR-TIMEZONE:Europe/Paris
CALSCALE:GREGORIAN
X-WR-CALDESC:O calendário de letras e de ciências sociais e humanas
METHOD:PUBLISH
BEGIN:VEVENT
DTSTART;VALUE=DATE:20200318
DTEND;VALUE=DATE:20200319
UID:755375-20200318@calenda.revues.org
SUMMARY:The European spaces of regulation and capital accumulation at the age of globalization 
URL:https://calenda-formation.labocleo.org/755375
DESCRIPTION:L’objectif de ce projet est de repenser les rapports entre l’espace\, les systèmes règlementaires et l’accumulation du capital en Europe. Même si la mondialisation a conduit à valoriser la question de l’espace dans les sciences sociales\, son intégrati… @plus_info https://calenda-formation.labocleo.org/755375
LOCATION:Saint-Denis
END:VEVENT
END:VCALENDAR
