BEGIN:VCALENDAR
VERSION:2.0
PRODID:-//https://calenda-formation.labocleo.org
X-WR-CALNAME:Calenda
X-WR-TIMEZONE:Europe/Paris
CALSCALE:GREGORIAN
X-WR-CALDESC:The calendar for arts, humanities and social sciences
METHOD:PUBLISH
BEGIN:VEVENT
DTSTART;VALUE=DATE:20200618
DTEND;VALUE=DATE:20200619
UID:756510-20200618@calenda.revues.org
SUMMARY:The return of the Wigalois 
URL:https://calenda-formation.labocleo.org/756510
DESCRIPTION:On June 18th and 19th 2020 the Badische Landesbibliothek organizes the international and interdisciplinary congress “The return of the Wigalois - a handwriting of the 15th century in the focus of new research approaches”. The congress presents and di… @plus_info https://calenda-formation.labocleo.org/756510
LOCATION:Karlsruhe
END:VEVENT
BEGIN:VEVENT
DTSTART;VALUE=DATE:20200619
DTEND;VALUE=DATE:20200620
UID:756510-20200619@calenda.revues.org
SUMMARY:The return of the Wigalois 
URL:https://calenda-formation.labocleo.org/756510
DESCRIPTION:On June 18th and 19th 2020 the Badische Landesbibliothek organizes the international and interdisciplinary congress “The return of the Wigalois - a handwriting of the 15th century in the focus of new research approaches”. The congress presents and di… @plus_info https://calenda-formation.labocleo.org/756510
LOCATION:Karlsruhe
END:VEVENT
END:VCALENDAR
