BEGIN:VCALENDAR
VERSION:2.0
PRODID:-//https://calenda-formation.labocleo.org
X-WR-CALNAME:Calenda
X-WR-TIMEZONE:Europe/Paris
CALSCALE:GREGORIAN
X-WR-CALDESC:The calendar for arts, humanities and social sciences
METHOD:PUBLISH
BEGIN:VEVENT
DTSTART;VALUE=DATE:20200313
DTEND;VALUE=DATE:20200314
UID:757486-20200313@calenda.revues.org
SUMMARY:Interpreting Technology
URL:https://calenda-formation.labocleo.org/757486
DESCRIPTION:Le Fonds Ricœur organise le workshop « Interpreting Thechnology. Ricœur on Philosophy and Ethics of Technology » qui entend nourrir les débats entre la pensée de Ricœur et l’éthique des technologies. Le workshop s’articulera en quatre parties. La pre… @plus_info https://calenda-formation.labocleo.org/757486
LOCATION:Paris
END:VEVENT
END:VCALENDAR
