BEGIN:VCALENDAR
VERSION:2.0
PRODID:-//https://calenda-formation.labocleo.org
X-WR-CALNAME:Calenda
X-WR-TIMEZONE:Europe/Paris
CALSCALE:GREGORIAN
X-WR-CALDESC:Le calendrier des lettres et sciences humaines et sociales
METHOD:PUBLISH
BEGIN:VEVENT
DTSTART;VALUE=DATE:20200406
DTEND;VALUE=DATE:20200407
UID:759014-20200406@calenda.revues.org
SUMMARY:Libertad de expresión y libertad de creación en el istmo centramericano (siglos XIX-XXI)
URL:https://calenda-formation.labocleo.org/759014
DESCRIPTION:El ciclo de conferencias "Libertad de expresión y libertad de creación en el Istmo centroamericano (siglos XIX-XXI)" será organizado por las Universidades de Angers y de Tours en el marco de la semana de América Latina en Francia. Este ciclo de confe… Más informaciones https://calenda-formation.labocleo.org/759014
LOCATION:Angers\, Tours
END:VEVENT
END:VCALENDAR
