BEGIN:VCALENDAR
VERSION:2.0
PRODID:-//https://calenda-formation.labocleo.org
X-WR-CALNAME:Calenda
X-WR-TIMEZONE:Europe/Paris
CALSCALE:GREGORIAN
X-WR-CALDESC:Le calendrier des lettres et sciences humaines et sociales
METHOD:PUBLISH
BEGIN:VEVENT
DTSTART;VALUE=DATE:20200305
DTEND;VALUE=DATE:20200306
UID:760284-20200305@calenda.revues.org
SUMMARY:Identités féminines au travail. Études sur les représentations dans l'espace européen
URL:https://calenda-formation.labocleo.org/760284
DESCRIPTION:Si\, en 1949\, Simone de Beauvoir considérait le travail comme un élément fondamental pour l’indépendance et l’autodétermination des femmes\, aujourd’hui cette confiance semble s’effacer au profit de nombreux doutes. Les changements récents qui affecten… Más informaciones https://calenda-formation.labocleo.org/760284
LOCATION:Rennes
END:VEVENT
END:VCALENDAR
