BEGIN:VCALENDAR
VERSION:2.0
PRODID:-//https://calenda-formation.labocleo.org
X-WR-CALNAME:Calenda
X-WR-TIMEZONE:Europe/Paris
CALSCALE:GREGORIAN
X-WR-CALDESC:Le calendrier des lettres et sciences humaines et sociales
METHOD:PUBLISH
BEGIN:VEVENT
DTSTART;VALUE=DATE:20200515
DTEND;VALUE=DATE:20200516
UID:760744-20200515@calenda.revues.org
SUMMARY:La cognition humaine chez Andreï Makine
URL:https://calenda-formation.labocleo.org/760744
DESCRIPTION:Bien qu’elle se trouve au cœur de l’esthétique makinienne\, la représentation littéraire de la cognition humaine a pourtant reçu relativement peu d’attention critique jusqu’à présent (voir Mistreanu 2018 et 2019). Les journées d’études que nous organi… Weitere Informationen https://calenda-formation.labocleo.org/760744
LOCATION:Luxemburg
END:VEVENT
END:VCALENDAR
