BEGIN:VCALENDAR
VERSION:2.0
PRODID:-//https://calenda-formation.labocleo.org
X-WR-CALNAME:Calenda
X-WR-TIMEZONE:Europe/Paris
CALSCALE:GREGORIAN
X-WR-CALDESC:O calendário de letras e de ciências sociais e humanas
METHOD:PUBLISH
BEGIN:VEVENT
DTSTART;VALUE=DATE:20200531
DTEND;VALUE=DATE:20200601
UID:762389-20200531@calenda.revues.org
SUMMARY:Genre et comédie : stars\, performances\, personnages
URL:https://calenda-formation.labocleo.org/762389
DESCRIPTION:Ce numéro de la revue Genre en séries abordera la comédie dans une perspective genrée – et plus largement socio-culturelle – en se focalisant sur les acteurs/trices qui se sont illustré.e.s au cinéma et à la télévision dans un registre comique.  … @plus_info https://calenda-formation.labocleo.org/762389
LOCATION:
END:VEVENT
END:VCALENDAR
