BEGIN:VCALENDAR
VERSION:2.0
PRODID:-//https://calenda-formation.labocleo.org
X-WR-CALNAME:Calenda
X-WR-TIMEZONE:Europe/Paris
CALSCALE:GREGORIAN
X-WR-CALDESC:The calendar for arts, humanities and social sciences
METHOD:PUBLISH
BEGIN:VEVENT
DTSTART;VALUE=DATE:20200430
DTEND;VALUE=DATE:20200501
UID:765556-20200430@calenda.revues.org
SUMMARY:Performance and anthropology
URL:https://calenda-formation.labocleo.org/765556
DESCRIPTION:La Revista Brasileira de Estudos da Presença [Brazilian Journal on Presence Studies]\, revue périodique en ligne d’accès libre\, avec révision par des pairs\, sans frais de soumission ou de publication\, reçoit jusqu’au 30 avril 2020\, des articles inédit… @plus_info https://calenda-formation.labocleo.org/765556
LOCATION:Porto Alegre
END:VEVENT
END:VCALENDAR
