BEGIN:VCALENDAR
VERSION:2.0
PRODID:-//https://calenda-formation.labocleo.org
X-WR-CALNAME:Calenda
X-WR-TIMEZONE:Europe/Paris
CALSCALE:GREGORIAN
X-WR-CALDESC:The calendar for arts, humanities and social sciences
METHOD:PUBLISH
BEGIN:VEVENT
DTSTART;VALUE=DATE:20200531
DTEND;VALUE=DATE:20200601
UID:767626-20200531@calenda.revues.org
SUMMARY:Investigation narrative. The uses and functions in the social sciences of sport
URL:https://calenda-formation.labocleo.org/767626
DESCRIPTION:Centrale pour les anthropologues\, la question des rapports qu’entretient le.la chercheur.e avec son terrain et ses enquêtés a pénétré depuis\, l’ensemble des sciences humaines et sociales. Comme le rappelait Pierre Bourdieu\, ces dynamiques interperson… @plus_info https://calenda-formation.labocleo.org/767626
LOCATION:Arras
END:VEVENT
END:VCALENDAR
