BEGIN:VCALENDAR
VERSION:2.0
PRODID:-//https://calenda-formation.labocleo.org
X-WR-CALNAME:Calenda
X-WR-TIMEZONE:Europe/Paris
CALSCALE:GREGORIAN
X-WR-CALDESC:O calendário de letras e de ciências sociais e humanas
METHOD:PUBLISH
BEGIN:VEVENT
DTSTART;VALUE=DATE:20200430
DTEND;VALUE=DATE:20200501
UID:767846-20200430@calenda.revues.org
SUMMARY:L’envers des routes de la soie : documenter la répression en région ouïghoure
URL:https://calenda-formation.labocleo.org/767846
DESCRIPTION:Ce nouveau numéro de Monde Chinois Nouvelle Asie sera consacré à la crise que connaît la région ouïghoure\, en nette accélération depuis l’arrivée en 2016 de Chen Quanguo en tant que Secrétaire du Parti du Xinjiang. L’objectif est d’apporter des clés … @plus_info https://calenda-formation.labocleo.org/767846
LOCATION:
END:VEVENT
END:VCALENDAR
