BEGIN:VCALENDAR
VERSION:2.0
PRODID:-//https://calenda-formation.labocleo.org
X-WR-CALNAME:Calenda
X-WR-TIMEZONE:Europe/Paris
CALSCALE:GREGORIAN
X-WR-CALDESC:Le calendrier des lettres et sciences humaines et sociales
METHOD:PUBLISH
BEGIN:VEVENT
DTSTART;VALUE=DATE:20200601
DTEND;VALUE=DATE:20200602
UID:768429-20200601@calenda.revues.org
SUMMARY:Les Annales et l'histoire régionale\, l'histoire régionale et les Annales
URL:https://calenda-formation.labocleo.org/768429
DESCRIPTION:Cet appel à contributions est destiné à un numéro thématique des Annales de Normandie sur l'histoire de l'historiographie régionale\, à paraître au second semestre 2021. Il s'agit d'une réflexion sur les rapports entre les revues d'histoire régionale … @plus_info https://calenda-formation.labocleo.org/768429
LOCATION:
END:VEVENT
END:VCALENDAR
