BEGIN:VCALENDAR
VERSION:2.0
PRODID:-//https://calenda-formation.labocleo.org
X-WR-CALNAME:Calenda
X-WR-TIMEZONE:Europe/Paris
CALSCALE:GREGORIAN
X-WR-CALDESC:The calendar for arts, humanities and social sciences
METHOD:PUBLISH
BEGIN:VEVENT
DTSTART;VALUE=DATE:20200501
DTEND;VALUE=DATE:20200502
UID:769514-20200501@calenda.revues.org
SUMMARY:The Cultural History of Jewish-Arab Relations in Palestine/Israel
URL:https://calenda-formation.labocleo.org/769514
DESCRIPTION:The journal Revue d'histoire culturelle (XVIIIe-XXIe siècles) is pleased to announce a call for papers toward an issue on the cultural history of Jewish-Arab relations in Palestine / Israel between the late 19th and early 21st centuries. For a long p… @plus_info https://calenda-formation.labocleo.org/769514
LOCATION:
END:VEVENT
END:VCALENDAR
