BEGIN:VCALENDAR
VERSION:2.0
PRODID:-//https://calenda-formation.labocleo.org
X-WR-CALNAME:Calenda
X-WR-TIMEZONE:Europe/Paris
CALSCALE:GREGORIAN
X-WR-CALDESC:Le calendrier des lettres et sciences humaines et sociales
METHOD:PUBLISH
BEGIN:VEVENT
DTSTART;VALUE=DATE:20200715
DTEND;VALUE=DATE:20200716
UID:772429-20200715@calenda.revues.org
SUMMARY:Thématiques COVID-19 - « Cahiers Droit\, sciences et technologies »
URL:https://calenda-formation.labocleo.org/772429
DESCRIPTION:Les Cahiers Droit\, Sciences et Technologies lancent leur appel à contribution pour le numéro 11 (sortie 1er novembre 2020). Les thématiques suivantes\, liées à la crise sanitaire Covid-19 sont privilégiées : Covid-19 et expertise scientifique (organis… Más informaciones https://calenda-formation.labocleo.org/772429
LOCATION:
END:VEVENT
END:VCALENDAR
