BEGIN:VCALENDAR
VERSION:2.0
PRODID:-//https://calenda-formation.labocleo.org
X-WR-CALNAME:Calenda
X-WR-TIMEZONE:Europe/Paris
CALSCALE:GREGORIAN
X-WR-CALDESC:The calendar for arts, humanities and social sciences
METHOD:PUBLISH
BEGIN:VEVENT
DTSTART;VALUE=DATE:20200626
DTEND;VALUE=DATE:20200627
UID:775029-20200626@calenda.revues.org
SUMMARY:Issues in Translation and Interpretation in Africa
URL:https://calenda-formation.labocleo.org/775029
DESCRIPTION:Tafsiri\, Pan-African Journal of Translation and Interpretationinvites researchers to present original and well researched contributions in the form of articles\, research reports\, reviews and interviews around the theme “Issues in Translation and Inte… @plus_info https://calenda-formation.labocleo.org/775029
LOCATION:
END:VEVENT
END:VCALENDAR
