BEGIN:VCALENDAR
VERSION:2.0
PRODID:-//https://calenda-formation.labocleo.org
X-WR-CALNAME:Calenda
X-WR-TIMEZONE:Europe/Paris
CALSCALE:GREGORIAN
X-WR-CALDESC:O calendário de letras e de ciências sociais e humanas
METHOD:PUBLISH
BEGIN:VEVENT
DTSTART;VALUE=DATE:20200604
DTEND;VALUE=DATE:20200605
UID:776934-20200604@calenda.revues.org
SUMMARY:Lutte contre le Covid-19 : quel impact social des mesures sanitaires pour les plus vulnérables ?  
URL:https://calenda-formation.labocleo.org/776934
DESCRIPTION:Organisation de recherche dédiée à l’action humanitaire et sociale\, la Fondation Croix-Rouge française porte la volonté de la Croix-Rouge française de s’engager dans un effort d’analyse des souffrances et des manières d’y répondre\, d’anticipation des… @plus_info https://calenda-formation.labocleo.org/776934
LOCATION:
END:VEVENT
END:VCALENDAR
