BEGIN:VCALENDAR
VERSION:2.0
PRODID:-//https://calenda-formation.labocleo.org
X-WR-CALNAME:Calenda
X-WR-TIMEZONE:Europe/Paris
CALSCALE:GREGORIAN
X-WR-CALDESC:Le calendrier des lettres et sciences humaines et sociales
METHOD:PUBLISH
BEGIN:VEVENT
DTSTART;VALUE=DATE:20200930
DTEND;VALUE=DATE:20201001
UID:778559-20200930@calenda.revues.org
SUMMARY:Mujeres\, indígenas y líderes en la escena política. Trayectorias\, prácticas y roles en América Latina
URL:https://calenda-formation.labocleo.org/778559
DESCRIPTION:Con motivo del 57º congreso internacional de Americanistas\, que tendrá lugar del 19 al 23 de julio de 2021 en Foz do Iguaçu\, Brasil\, les invitamos a enviar sus propuestas de ponencias para participar en nuestro GT: Mujeres\, indígenas y líderes en la … Más informaciones https://calenda-formation.labocleo.org/778559
LOCATION:Foz de Iguazu
END:VEVENT
END:VCALENDAR
