BEGIN:VCALENDAR
VERSION:2.0
PRODID:-//https://calenda-formation.labocleo.org
X-WR-CALNAME:Calenda
X-WR-TIMEZONE:Europe/Paris
CALSCALE:GREGORIAN
X-WR-CALDESC:The calendar for arts, humanities and social sciences
METHOD:PUBLISH
BEGIN:VEVENT
DTSTART;VALUE=DATE:20201001
DTEND;VALUE=DATE:20201002
UID:778584-20201001@calenda.revues.org
SUMMARY:Conceptual obsolescence - abandon or transformation?
URL:https://calenda-formation.labocleo.org/778584
DESCRIPTION:Philosophia Scientiæ lance un appel à contributions pour un numéro spécial sur le thème suivant : la désuétude conceptuelle – abandon ou transformation ?. Lorsqu'elle étudie les concepts et les objets scientifiques dans leur historicité\, la philosoph… @plus_info https://calenda-formation.labocleo.org/778584
LOCATION:
END:VEVENT
END:VCALENDAR
