BEGIN:VCALENDAR
VERSION:2.0
PRODID:-//https://calenda-formation.labocleo.org
X-WR-CALNAME:Calenda
X-WR-TIMEZONE:Europe/Paris
CALSCALE:GREGORIAN
X-WR-CALDESC:Le calendrier des lettres et sciences humaines et sociales
METHOD:PUBLISH
BEGIN:VEVENT
DTSTART;VALUE=DATE:20200630
DTEND;VALUE=DATE:20200701
UID:779699-20200630@calenda.revues.org
SUMMARY:« Vivre vite ». Le XIXe siècle face à l'accélération du temps et de l'histoire
URL:https://calenda-formation.labocleo.org/779699
DESCRIPTION:Du 25 au 27 janvier se tiendra à Paris\, à la Fondation Singer-Polignac\, le IXe congrès de la Société des études romantiques et dix-neuviémistes\, sur le thème suivant : « Vivre vite ». Le XIXe siècle face à l'accélération du temps et de l'histoire. L’… Weitere Informationen https://calenda-formation.labocleo.org/779699
LOCATION:Paris
END:VEVENT
END:VCALENDAR
