BEGIN:VCALENDAR
VERSION:2.0
PRODID:-//https://calenda-formation.labocleo.org
X-WR-CALNAME:Calenda
X-WR-TIMEZONE:Europe/Paris
CALSCALE:GREGORIAN
X-WR-CALDESC:O calendário de letras e de ciências sociais e humanas
METHOD:PUBLISH
BEGIN:VEVENT
DTSTART;VALUE=DATE:20200930
DTEND;VALUE=DATE:20201001
UID:779764-20200930@calenda.revues.org
SUMMARY:Territoires féministes en Amérique latine : voix périphériques
URL:https://calenda-formation.labocleo.org/779764
DESCRIPTION:Ce numéro des Cahiers d'ALHIM a l’ambition d’offrir un éclairage critique sur la participation des femmes\, dans la construction des nations\, des imaginaires\, dans les domaines politique\, économique et social. Il propose une réflexion sur les femmes a… @plus_info https://calenda-formation.labocleo.org/779764
LOCATION:Paris
END:VEVENT
END:VCALENDAR
