BEGIN:VCALENDAR
VERSION:2.0
PRODID:-//https://calenda-formation.labocleo.org
X-WR-CALNAME:Calenda
X-WR-TIMEZONE:Europe/Paris
CALSCALE:GREGORIAN
X-WR-CALDESC:The calendar for arts, humanities and social sciences
METHOD:PUBLISH
BEGIN:VEVENT
DTSTART;VALUE=DATE:20200705
DTEND;VALUE=DATE:20200706
UID:780449-20200705@calenda.revues.org
SUMMARY:Participatory budgeting in 2020:  participation without democracy?
URL:https://calenda-formation.labocleo.org/780449
DESCRIPTION:Since the 2010s\, participatory budgeting processes have not been the subject of many updated empirical studies\, despite their multiplication. The present call invites to highlight and put into perspective the specificities of the most recent particip… @plus_info https://calenda-formation.labocleo.org/780449
LOCATION:Saint-Denis
END:VEVENT
END:VCALENDAR
