BEGIN:VCALENDAR
VERSION:2.0
PRODID:-//https://calenda-formation.labocleo.org
X-WR-CALNAME:Calenda
X-WR-TIMEZONE:Europe/Paris
CALSCALE:GREGORIAN
X-WR-CALDESC:O calendário de letras e de ciências sociais e humanas
METHOD:PUBLISH
BEGIN:VEVENT
DTSTART;VALUE=DATE:20200901
DTEND;VALUE=DATE:20200902
UID:780681-20200901@calenda.revues.org
SUMMARY:Attaché·e temporaire d'enseignement et de recherche - Institut national supérieur handicap et enseignements adaptés (INSHEA)
URL:https://calenda-formation.labocleo.org/780681
DESCRIPTION:La personne recrutée assurera notamment des enseignements dans le cadre du CAPPEI\, des modules de formation d’initiative nationale et du master PIH2A (pratiques inclusives\, handicap\, accessibilité et accompagnement). Elle aura une bonne connaissance … @plus_info https://calenda-formation.labocleo.org/780681
LOCATION:Suresnes
END:VEVENT
END:VCALENDAR
