BEGIN:VCALENDAR
VERSION:2.0
PRODID:-//https://calenda-formation.labocleo.org
X-WR-CALNAME:Calenda
X-WR-TIMEZONE:Europe/Paris
CALSCALE:GREGORIAN
X-WR-CALDESC:O calendário de letras e de ciências sociais e humanas
METHOD:PUBLISH
BEGIN:VEVENT
DTSTART;VALUE=DATE:20201101
DTEND;VALUE=DATE:20201102
UID:780989-20201101@calenda.revues.org
SUMMARY:Cohabiter dans la ville : troubles\, résistances\, coopérations
URL:https://calenda-formation.labocleo.org/780989
DESCRIPTION:La revue Espaces & Sociétés lance un appel à contribution pour un numéro thématique intitulé « Cohabiter dans la ville : troubles\, résistances\, coopérations ». Ce dossier invite à explorer des situations de cohabitation entre citadins\, quels que soie… @plus_info https://calenda-formation.labocleo.org/780989
LOCATION:
END:VEVENT
END:VCALENDAR
