BEGIN:VCALENDAR
VERSION:2.0
PRODID:-//https://calenda-formation.labocleo.org
X-WR-CALNAME:Calenda
X-WR-TIMEZONE:Europe/Paris
CALSCALE:GREGORIAN
X-WR-CALDESC:Le calendrier des lettres et sciences humaines et sociales
METHOD:PUBLISH
BEGIN:VEVENT
DTSTART;VALUE=DATE:20200605
DTEND;VALUE=DATE:20200606
UID:781219-20200605@calenda.revues.org
SUMMARY:Écrire une ville\, habiter une ville : représentations spatiales des persécutions en Europe occupée (1940-1944)
URL:https://calenda-formation.labocleo.org/781219
DESCRIPTION:À l’occasion de la présente journée d’études\, nous nous proposons de réfléchir à la manière dont l’imaginaire urbain renvoie à des territorialités qui sont simultanément habitées par les écrivains et artistes\, l’occupant\, les autochtones et ceux qui … Weitere Informationen https://calenda-formation.labocleo.org/781219
LOCATION:Brüssel
END:VEVENT
END:VCALENDAR
