BEGIN:VCALENDAR
VERSION:2.0
PRODID:-//https://calenda-formation.labocleo.org
X-WR-CALNAME:Calenda
X-WR-TIMEZONE:Europe/Paris
CALSCALE:GREGORIAN
X-WR-CALDESC:The calendar for arts, humanities and social sciences
METHOD:PUBLISH
BEGIN:VEVENT
DTSTART;VALUE=DATE:20201020
DTEND;VALUE=DATE:20201021
UID:781646-20201020@calenda.revues.org
SUMMARY:The uneasy status of scientific research in African and in the Arab world: what reasons and what remediations? 
URL:https://calenda-formation.labocleo.org/781646
DESCRIPTION:La recherche scientifique est étroitement liée à la prise de conscience sociale de ‎l’intérêt économique et politique du progrès scientifique. Son essor est assujetti ‎au regard que portent les pouvoirs publics sur les chercheurs et sur la politique … @plus_info https://calenda-formation.labocleo.org/781646
LOCATION:Aïn Temouchent
END:VEVENT
END:VCALENDAR
