BEGIN:VCALENDAR
VERSION:2.0
PRODID:-//https://calenda-formation.labocleo.org
X-WR-CALNAME:Calenda
X-WR-TIMEZONE:Europe/Paris
CALSCALE:GREGORIAN
X-WR-CALDESC:Le calendrier des lettres et sciences humaines et sociales
METHOD:PUBLISH
BEGIN:VEVENT
DTSTART;VALUE=DATE:20200620
DTEND;VALUE=DATE:20200621
UID:781911-20200620@calenda.revues.org
SUMMARY:Close Encounters in War and Post-Traumatic Stress Disorder
URL:https://calenda-formation.labocleo.org/781911
DESCRIPTION:Issue n. 3 of Close encounters in war Journal (CEIWJ) will aim to investigate the theme of close encounters in connection to the experience of Post-Traumatic Stress Disorder (PTSD) by exploring its facets both on a micro-scale\, by studying individual… Más informaciones https://calenda-formation.labocleo.org/781911
LOCATION:
END:VEVENT
END:VCALENDAR
