BEGIN:VCALENDAR
VERSION:2.0
PRODID:-//https://calenda-formation.labocleo.org
X-WR-CALNAME:Calenda
X-WR-TIMEZONE:Europe/Paris
CALSCALE:GREGORIAN
X-WR-CALDESC:Le calendrier des lettres et sciences humaines et sociales
METHOD:PUBLISH
BEGIN:VEVENT
DTSTART;VALUE=DATE:20200629
DTEND;VALUE=DATE:20200630
UID:782308-20200629@calenda.revues.org
SUMMARY:Mobilisation de la jeunesse dans les petites villes d’Éthiopie
URL:https://calenda-formation.labocleo.org/782308
DESCRIPTION:Ce projet analyse l'ancrage spatial et social de la contestation politique qui bouleverse l'Éthiopie depuis plusieurs années. À ce seul titre\, la recherche répond à une demande sociale sans précédent et permettrait de renseigner une contestation poli… @plus_info https://calenda-formation.labocleo.org/782308
LOCATION:Paris
END:VEVENT
END:VCALENDAR
