BEGIN:VCALENDAR
VERSION:2.0
PRODID:-//https://calenda-formation.labocleo.org
X-WR-CALNAME:Calenda
X-WR-TIMEZONE:Europe/Paris
CALSCALE:GREGORIAN
X-WR-CALDESC:The calendar for arts, humanities and social sciences
METHOD:PUBLISH
BEGIN:VEVENT
DTSTART;VALUE=DATE:20200629
DTEND;VALUE=DATE:20200630
UID:782308-20200629@calenda.revues.org
SUMMARY:Mobilisation of the youth in Ethiopian small urban settements
URL:https://calenda-formation.labocleo.org/782308
DESCRIPTION:The project aims to analyse social and spatial entrenchment of the recent political mobilisation in Ethiopia. By documenting the multifaced and continuously evolving contestation shaking the country\, it addresses an unprecedent social and academic ne… @plus_info https://calenda-formation.labocleo.org/782308
LOCATION:Paris
END:VEVENT
END:VCALENDAR
