BEGIN:VCALENDAR
VERSION:2.0
PRODID:-//https://calenda-formation.labocleo.org
X-WR-CALNAME:Calenda
X-WR-TIMEZONE:Europe/Paris
CALSCALE:GREGORIAN
X-WR-CALDESC:The calendar for arts, humanities and social sciences
METHOD:PUBLISH
BEGIN:VEVENT
DTSTART;VALUE=DATE:20201101
DTEND;VALUE=DATE:20201102
UID:782786-20201101@calenda.revues.org
SUMMARY:La musique « live » à l’ère des plateformes et de la captation numérique
URL:https://calenda-formation.labocleo.org/782786
DESCRIPTION:Hors du champ des études sur les musiques populaires ou de celles sur le spectacle vivant (dans la tradition française des arts du spectacle\, ou anglophone des performing arts) où les recherches progressent depuis quelques années\, la musique « live »… @plus_info https://calenda-formation.labocleo.org/782786
LOCATION:
END:VEVENT
END:VCALENDAR
