BEGIN:VCALENDAR
VERSION:2.0
PRODID:-//https://calenda-formation.labocleo.org
X-WR-CALNAME:Calenda
X-WR-TIMEZONE:Europe/Paris
CALSCALE:GREGORIAN
X-WR-CALDESC:O calendário de letras e de ciências sociais e humanas
METHOD:PUBLISH
BEGIN:VEVENT
DTSTART;VALUE=DATE:20200911
DTEND;VALUE=DATE:20200912
UID:783658-20200911@calenda.revues.org
SUMMARY:Vingt ans après : retours sur le 11 septembre 2001
URL:https://calenda-formation.labocleo.org/783658
DESCRIPTION:Vingt ans après les attentats qui ont frappé les États-Unis le 11 septembre 2001\, les universités Toulouse Jean Jaurès (CAS) et Paul-Valéry – Montpellier 3 (EMMA) s’associent pour organiser un colloque international interdisciplinaire qui propose d’a… @plus_info https://calenda-formation.labocleo.org/783658
LOCATION:Toulouse
END:VEVENT
END:VCALENDAR
